BEGIN:VCALENDAR
VERSION:2.0
PRODID:icalendar-ruby
CALSCALE:GREGORIAN
METHOD:PUBLISH
BEGIN:VEVENT
DTSTAMP:20260423T100602Z
UID:174-3208967@lindenmb.org
DTSTART:20261021T153000Z
DTEND:20261021T173000Z
CLASS:PUBLIC
CREATED:20260422T184516
DESCRIPTION:\nMTO is on Wednesdays at 9:30 am to 11:30 am.\nWe have plans f
 or childcare through the year. Kids downstairs in the Common Space and mom
 's upstairs in the Upper Room.\n\nBook study Hebrews by Jen Wilkin\nPlease
  let Marsha know you’re coming soon so your book can be ordered!\n\n\nI 
 can't wait to spend this year growing in our knowledge and understanding o
 f Jesus and getting to know each of you better!\nSee you soon at the churc
 h!\n\n
LAST-MODIFIED:20260422T184516
LOCATION:Linden Mennonite Brethren Church
SUMMARY:Mom's Time Out
URL;VALUE=URI:https://www.lindenmb.org/events/moms-time-out/2026-10-21
ATTACH;FILENAME=CTW - 2025 (52).jpg;FMTTYPE=image/jpeg:https://dq5pwpg1q8ru
 0.cloudfront.net/2025/12/17/18/03/36/d7e723d4-da6d-476f-9699-c87cdb888a7c/
 CTW%20-%202025%20(52).jpg
END:VEVENT
END:VCALENDAR
